BEGIN:VCALENDAR
VERSION:2.0
PRODID:-//Avondale Community Action - ECPv4.4.4//NONSGML v1.0//EN
CALSCALE:GREGORIAN
METHOD:PUBLISH
X-WR-CALNAME:Avondale Community Action
X-ORIGINAL-URL:http://www.avondalecommunityaction.org.nz
X-WR-CALDESC:Events for Avondale Community Action
BEGIN:VEVENT
DTSTART;TZID=Pacific/Auckland:20170310T093000
DTEND;TZID=Pacific/Auckland:20170310T120000
DTSTAMP:20180125T143505
CREATED:20170301T223219Z
LAST-MODIFIED:20170301T223219Z
UID:1054-1489138200-1489147200@www.avondalecommunityaction.org.nz
SUMMARY:Drop in Needlecraft Lab
DESCRIPTION:Do you want to work on a project whilst having a chat and a cuppa or do you want to learn how to knit\, crochet\, embroider etc.?? Then this is the right work shop for you!!\n\nThere will be a tutor present who is fluent in all kinds of needlecraft to teach or help you when you need a hand.\n\nSo bring along your project and get stuck in. In case you don't know where to begin then we have some resources available to get you started on a project.\n\nGold coin donation / Koha\n\nWe will be running these weekly workshops alternating on a Friday morning and on Wednesday afternoons. See the schedule below for dates and times.\n\nFriday 10 March 9.30-12PM\n\nWednesday 15 March 12.30 -2.30PM\n\nFriday 24 March 9.30-12PM\n\nWednesday 29 March 12.30 -2.30PM\n\nFriday 7 April 9.30-12PM\n\nWednesday 12 April 12.30 -2.30PM\n\nFriday 24 April 9.30-12PM\n\nWednesday 26 April 12.30 -2.30PM\n\nFriday 5 May 9.30-12PM\n\nWednesday 10 May 12.30 -2.30PM\n\nFriday 19 May 9.30-12PM\n\nWednesday 24 May 12.30 -2.30PM\n\nFriday 2 June 9.30-12PM\n\nWednesday 7 June 12.30 -2.30PM\n\nFriday 16 June 9.30-12PM\n\nWednesday 21 June 12.30 -2.30PM\n\nFriday 30 June 9.30-12PM
URL:http://www.avondalecommunityaction.org.nz/event/drop-in-needlecraft-lab/
LOCATION:99 Rosebank Rd\, Auckland\, 1026\, New Zealand
ATTACH;FMTTYPE=image/jpeg:http://www.avondalecommunityaction.org.nz/wp-content/uploads/2017/03/16999193_1307419445991959_7588615717379416090_n.jpg
ORGANIZER;CN="Avondale%20Community%20Action":MAILTO:avondalecommunityaction@gmail.com
END:VEVENT
END:VCALENDAR