BEGIN:VCALENDAR
VERSION:2.0
PRODID:-//Avondale Community Action - ECPv4.4.4//NONSGML v1.0//EN
CALSCALE:GREGORIAN
METHOD:PUBLISH
X-WR-CALNAME:Avondale Community Action
X-ORIGINAL-URL:http://www.avondalecommunityaction.org.nz
X-WR-CALDESC:Events for Avondale Community Action
BEGIN:VEVENT
DTSTART;TZID=UTC+12:20170301T200000
DTEND;TZID=UTC+12:20170304T223000
DTSTAMP:20180125T144419
CREATED:20170227T194745Z
LAST-MODIFIED:20170227T195954Z
UID:1004-1488398400-1488666600@www.avondalecommunityaction.org.nz
SUMMARY:The Floating Theatre
DESCRIPTION:The FLOATING THEATRE is a first of its kind. An intimate theatre experience floating on the water that sparkles with light and shadow.\n\nThe Floating Theatre is a 60 minute show which can be watched from inside or out. Be one of 30 people to see the show up close from within the luminous walls\, where a tiny stage transforms into an endless landscape and no-one is who they seem. Or watch it from outside as a shadow-play for free.\n\nDirected & designed by Stephen Bain\, performed by Jeremy Randerson & Jenny McArthur\, music by Jeff Henderson\, props by Sarah-Jane Blake\n\nWinning Productions make outdoor performances throughout NZ\, touring shows and installations to Australia & Europe. Supported by Creative NZ\, The Chartwell Trust\, Auckland Regional Council & Whau Local Board.\n\nBookings essential! Selling out fast!\n\nNo age restrictions\nRunning time - 60 mins\n\nWhau River\, Avondale\, West Auckland\n(Saunders Reserve\, off Rosebank Rd\, Avondale)\nDates: 1st March - 4th March 2017\nTiming: 2 shows each day 8pm and 9:30pm\nTickets: $20
URL:http://www.avondalecommunityaction.org.nz/event/the-floating-theatre/
LOCATION:26 Saunders Place\, Auckland\, 1026\, New Zealand
CATEGORIES:Arts/Culture
END:VEVENT
END:VCALENDAR