BEGIN:VCALENDAR
VERSION:2.0
PRODID:-//Avondale Community Action - ECPv4.4.4//NONSGML v1.0//EN
CALSCALE:GREGORIAN
METHOD:PUBLISH
X-WR-CALNAME:Avondale Community Action
X-ORIGINAL-URL:http://www.avondalecommunityaction.org.nz
X-WR-CALDESC:Events for Avondale Community Action
BEGIN:VEVENT
DTSTART;TZID=Pacific/Auckland:20170324T150000
DTEND;TZID=Pacific/Auckland:20170324T190000
DTSTAMP:20180125T144234
CREATED:20170316T222949Z
LAST-MODIFIED:20170316T223728Z
UID:1081-1490367600-1490382000@www.avondalecommunityaction.org.nz
SUMMARY:Neighbour's Day
DESCRIPTION:Avondale Community Action is hosting a Neighbour's Day event outside the lime green house on the corner of Rosebank and Avondale roads. There will be free food and entertainment - everyone is welcome.
URL:http://www.avondalecommunityaction.org.nz/event/neighbours-day/
LOCATION:224 Rosebank Road\, Auckland\, 1026\, New Zealand
CATEGORIES:Community
ORGANIZER;CN="Avondale%20Community%20Action":MAILTO:avondalecommunityaction@gmail.com
END:VEVENT
END:VCALENDAR