BEGIN:VCALENDAR
VERSION:2.0
PRODID:-//Avondale Community Action - ECPv4.4.4//NONSGML v1.0//EN
CALSCALE:GREGORIAN
METHOD:PUBLISH
X-WR-CALNAME:Avondale Community Action
X-ORIGINAL-URL:http://www.avondalecommunityaction.org.nz
X-WR-CALDESC:Events for Avondale Community Action
BEGIN:VEVENT
DTSTART;TZID=Pacific/Auckland:20170325T080000
DTEND;TZID=Pacific/Auckland:20170325T150000
DTSTAMP:20180125T144242
CREATED:20170316T224920Z
LAST-MODIFIED:20170316T224920Z
UID:1094-1490428800-1490454000@www.avondalecommunityaction.org.nz
SUMMARY:ACC Youth Garage Sale
DESCRIPTION:Please support the Avondale Christian Centre (ACC) Youth Garage Sale on Saturday\, 25 March 2017 at the Rosebank Primary School car park from 8am-3pm. Come one\, come all. Bric-a-brac\, cake stall\, sausage sizzle and entertainment. Bring the family and get a bargain!\n\n
URL:http://www.avondalecommunityaction.org.nz/event/acc-youth-garage-sale/
LOCATION:217 Rosebank Road\, Auckland\, 1026\, New Zealand
CATEGORIES:Community
END:VEVENT
END:VCALENDAR